BEGIN:VCALENDAR
VERSION:2.0
PRODID:-//eventon.com NONSGML v1.0//EN
CALSCALE:GREGORIAN
METHOD:PUBLISH
BEGIN:VEVENT
UID:69e9deaddca62
DTSTAMP:20260423T085613Z
DTSTART:20261125T073000Z
DTEND:20261126T150000Z
LOCATION:Online
SUMMARY:ONLINE ISO 22000:2018 belső auditor képzés
DESCRIPTION:A tanfolyam célja: Olyan szakemberek képzése\,  akik képese
 k lesznek MSZ EN ISO 22000:2018 szabvány szerinti élelmiszer-biztonsági 
 irányítási rendszerek magas színvonalú működtetésére és működő
  rendszerek auditálására. A résztvevők számos gyakorlati és elmélet
 i módszer bemutatása mellet sajátíthatják el az adott szabványra von
 atkozó ismereteket\,  valamint  megismerkedhetnek a belső auditorok fel
 adataival és felelősségkörével. A képzés MS[..]\nhttps://tudaskozpon
 t.certunion.com/training/online-iso-220002018-belso-auditor-kepzes/var/ri-7
 .l-L1
URL:https://tudaskozpont.certunion.com/training/online-iso-220002018-belso-auditor-kepzes/var/ri-7.l-L1
END:VEVENT
END:VCALENDAR